BEGIN:VCALENDAR
VERSION:2.0
PRODID:-//Florida Palmetto NAVHDA - ECPv6.15.20//NONSGML v1.0//EN
CALSCALE:GREGORIAN
METHOD:PUBLISH
X-ORIGINAL-URL:https://floridapalmettonavhda.org
X-WR-CALDESC:Events for Florida Palmetto NAVHDA
REFRESH-INTERVAL;VALUE=DURATION:PT1H
X-Robots-Tag:noindex
X-PUBLISHED-TTL:PT1H
BEGIN:VTIMEZONE
TZID:UTC
BEGIN:STANDARD
TZOFFSETFROM:+0000
TZOFFSETTO:+0000
TZNAME:UTC
DTSTART:20220101T000000
END:STANDARD
END:VTIMEZONE
BEGIN:VEVENT
DTSTART;TZID=UTC:20231028T080000
DTEND;TZID=UTC:20231029T170000
DTSTAMP:20260423T133305
CREATED:20230527T165227Z
LAST-MODIFIED:20230527T165325Z
UID:51192-1698480000-1698598800@floridapalmettonavhda.org
SUMMARY:Oct. 28 & 29 - Pre Test Weekend
DESCRIPTION:
URL:https://floridapalmettonavhda.org/event/oct-28-29-pre-test-weekend/
LOCATION:QHF Ranch\, 8300 SW martin Highway\, Palm City\, FL\, 34990\, United States
CATEGORIES:Testing
END:VEVENT
END:VCALENDAR