BEGIN:VCALENDAR
VERSION:2.0
PRODID:-//Florida Palmetto NAVHDA - ECPv6.15.20//NONSGML v1.0//EN
CALSCALE:GREGORIAN
METHOD:PUBLISH
X-ORIGINAL-URL:https://floridapalmettonavhda.org
X-WR-CALDESC:Events for Florida Palmetto NAVHDA
REFRESH-INTERVAL;VALUE=DURATION:PT1H
X-Robots-Tag:noindex
X-PUBLISHED-TTL:PT1H
BEGIN:VTIMEZONE
TZID:America/New_York
BEGIN:DAYLIGHT
TZOFFSETFROM:-0500
TZOFFSETTO:-0400
TZNAME:EDT
DTSTART:20240310T070000
END:DAYLIGHT
BEGIN:STANDARD
TZOFFSETFROM:-0400
TZOFFSETTO:-0500
TZNAME:EST
DTSTART:20241103T060000
END:STANDARD
BEGIN:DAYLIGHT
TZOFFSETFROM:-0500
TZOFFSETTO:-0400
TZNAME:EDT
DTSTART:20250309T070000
END:DAYLIGHT
BEGIN:STANDARD
TZOFFSETFROM:-0400
TZOFFSETTO:-0500
TZNAME:EST
DTSTART:20251102T060000
END:STANDARD
BEGIN:DAYLIGHT
TZOFFSETFROM:-0500
TZOFFSETTO:-0400
TZNAME:EDT
DTSTART:20260308T070000
END:DAYLIGHT
BEGIN:STANDARD
TZOFFSETFROM:-0400
TZOFFSETTO:-0500
TZNAME:EST
DTSTART:20261101T060000
END:STANDARD
END:VTIMEZONE
BEGIN:VTIMEZONE
TZID:UTC
BEGIN:STANDARD
TZOFFSETFROM:+0000
TZOFFSETTO:+0000
TZNAME:UTC
DTSTART:20230101T000000
END:STANDARD
END:VTIMEZONE
BEGIN:VEVENT
DTSTART;TZID=America/New_York:20250726T070000
DTEND;TZID=America/New_York:20250727T170000
DTSTAMP:20260423T104336
CREATED:20250322T025308Z
LAST-MODIFIED:20250322T025308Z
UID:52219-1753513200-1753635600@floridapalmettonavhda.org
SUMMARY:July 26/27 - CFFT Training
DESCRIPTION:Location:\nCFFT\n2285 Barney Keen Rd.\nLake Wales\,  Field C \n7am – dusk
URL:https://floridapalmettonavhda.org/event/july-26-27-cfft-training/
LOCATION:CFFT Hunt Club\, 2285 Barney Keen Rd.\, Lake Wales\, FL\, 33898\, United States
CATEGORIES:Training
END:VEVENT
BEGIN:VEVENT
DTSTART;TZID=UTC:20250712T070000
DTEND;TZID=UTC:20250712T170000
DTSTAMP:20260423T104336
CREATED:20241204T083110Z
LAST-MODIFIED:20241204T083110Z
UID:51995-1752303600-1752339600@floridapalmettonavhda.org
SUMMARY:July 12 - QHF Training
DESCRIPTION:
URL:https://floridapalmettonavhda.org/event/july-12-qhf-training/
LOCATION:QHF Ranch\, 8300 SW martin Highway\, Palm City\, FL\, 34990\, United States
CATEGORIES:Training
END:VEVENT
BEGIN:VEVENT
DTSTART;TZID=America/New_York:20250621T070000
DTEND;TZID=America/New_York:20250622T170000
DTSTAMP:20260423T104336
CREATED:20250322T024933Z
LAST-MODIFIED:20250322T024933Z
UID:52215-1750489200-1750611600@floridapalmettonavhda.org
SUMMARY:June 21/22 - CFFT Training
DESCRIPTION:Location:\nCFFT\n2285 Barney Keen Rd.\nLake Wales\,  Field C \n7am – dusk
URL:https://floridapalmettonavhda.org/event/june-21-22-cfft-training/
LOCATION:CFFT Hunt Club\, 2285 Barney Keen Rd.\, Lake Wales\, FL\, 33898\, United States
CATEGORIES:Training
END:VEVENT
BEGIN:VEVENT
DTSTART;TZID=UTC:20250607T070000
DTEND;TZID=UTC:20250607T170000
DTSTAMP:20260423T104336
CREATED:20241204T083014Z
LAST-MODIFIED:20241204T083014Z
UID:51993-1749279600-1749315600@floridapalmettonavhda.org
SUMMARY:June 7 - QHF Training
DESCRIPTION:
URL:https://floridapalmettonavhda.org/event/june-7-qhf-training/
LOCATION:QHF Ranch\, 8300 SW martin Highway\, Palm City\, FL\, 34990\, United States
CATEGORIES:Training
END:VEVENT
BEGIN:VEVENT
DTSTART;TZID=America/New_York:20250517T070000
DTEND;TZID=America/New_York:20250518T170000
DTSTAMP:20260423T104336
CREATED:20250322T024654Z
LAST-MODIFIED:20250322T024843Z
UID:52209-1747465200-1747587600@floridapalmettonavhda.org
SUMMARY:May 17/18 - CFFT Training
DESCRIPTION:Location:\nCFFT\n2285 Barney Keen Rd.\nLake Wales\,  Field C \n7am – dusk
URL:https://floridapalmettonavhda.org/event/may-17-18-cfft-training/
LOCATION:CFFT Hunt Club\, 2285 Barney Keen Rd.\, Lake Wales\, FL\, 33898\, United States
CATEGORIES:Training
END:VEVENT
BEGIN:VEVENT
DTSTART;TZID=UTC:20250503T070000
DTEND;TZID=UTC:20250503T170000
DTSTAMP:20260423T104336
CREATED:20241204T082836Z
LAST-MODIFIED:20241204T082836Z
UID:51991-1746255600-1746291600@floridapalmettonavhda.org
SUMMARY:May 3 - QHF Training
DESCRIPTION:
URL:https://floridapalmettonavhda.org/event/may-3-qhf-training/
LOCATION:QHF Ranch\, 8300 SW martin Highway\, Palm City\, FL\, 34990\, United States
CATEGORIES:Training
END:VEVENT
BEGIN:VEVENT
DTSTART;TZID=UTC:20250412T080000
DTEND;TZID=UTC:20250412T180000
DTSTAMP:20260423T104336
CREATED:20240213T071225Z
LAST-MODIFIED:20250214T195340Z
UID:51555-1744444800-1744480800@floridapalmettonavhda.org
SUMMARY:Snake Avoidance Clinic Presented by David “The Cobra Kid” Weathers at QHF Ranch
DESCRIPTION:Did you know treatment for a Snake Bite by a venomous snake is extremely expensive and that there is no guarantee your K-9 companion will recover?\nNAVHDA has partnered with David “The Cobra Kid” Weathers\, a professional venomous snake handler and animal trainer for a new and improved Snake Avoidance Clinic. The training aims to teach your dog to avoid the snake by conditioning them to the sight\, smell and sound of snakes. This type of training could save your dog’s life\, and possibly yours. David will handle several native snakes which will be contained in a safe environment and placed in normal hunting situations in the field. The snakes will be moved so each handler and dog will have new scent. Participants will learn about venomous snakes and their distinct features and natural habitat. We will add gunfire to the training\, since dogs have been bitten even after avoiding the snake because the handler shot at the snake. Training will incorporate the element of a verbal command\, since a handler’s natural reaction to a snake is often verbal. \nWho Should Attend:\nAnyone\, this is not just for member bird dogs! This training session is open to any dogs who could benefit\, Hog Dogs\, Deer Dogs\, Waterfowl Retrievers\, Cattle dogs\, Herders or even your home companion. \n  \nDate: April 12\, 2025\nTime: 8:00 AM – 6:00 PM.  Once registered\, you will receive an email with time confirmation.  Please arrive one hour before your time slot.\nConducted By: World Famous Snake handler David Weathers in conjunction with NAVHDA. \n\n  \nNOTE: \nOnce registered\, you will receive an email with a time confirmation about a week prior to running.\nPlease arrive one hour before your time slot. \n  \nFOR MORE INFORMATION AND TO REGISTER ONLINE:\nCLICK HERE\n 
URL:https://floridapalmettonavhda.org/event/snake-avoidance-clinic-presented-by-david-the-cobra-kid-weathers-at-qhf-ranch-2/
LOCATION:QHF Ranch\, 8300 SW martin Highway\, Palm City\, FL\, 34990\, United States
CATEGORIES:General
ATTACH;FMTTYPE=image/jpeg:https://floridapalmettonavhda.org/wp-content/uploads/2024/02/2025-snake-anouncement-blue-2025.jpg
END:VEVENT
BEGIN:VEVENT
DTSTART;TZID=America/New_York:20250329T070000
DTEND;TZID=America/New_York:20250330T170000
DTSTAMP:20260423T104336
CREATED:20250322T032143Z
LAST-MODIFIED:20250322T032143Z
UID:52230-1743231600-1743354000@floridapalmettonavhda.org
SUMMARY:March 29/30 - QHF Spring Test
DESCRIPTION:
URL:https://floridapalmettonavhda.org/event/march-29-30-qhf-spring-test/
LOCATION:QHF Ranch\, 8300 SW martin Highway\, Palm City\, FL\, 34990\, United States
CATEGORIES:Testing
END:VEVENT
BEGIN:VEVENT
DTSTART;TZID=America/New_York:20250301T070000
DTEND;TZID=America/New_York:20250301T170000
DTSTAMP:20260423T104336
CREATED:20241204T082601Z
LAST-MODIFIED:20250225T015305Z
UID:51986-1740812400-1740848400@floridapalmettonavhda.org
SUMMARY:March 1 - QHF Training
DESCRIPTION:
URL:https://floridapalmettonavhda.org/event/march-1-qhf-training/
LOCATION:QHF Ranch\, 8300 SW martin Highway\, Palm City\, FL\, 34990\, United States
CATEGORIES:Training
END:VEVENT
BEGIN:VEVENT
DTSTART;TZID=UTC:20250215T080000
DTEND;TZID=UTC:20250215T160000
DTSTAMP:20260423T104336
CREATED:20250102T185854Z
LAST-MODIFIED:20250102T185854Z
UID:52019-1739606400-1739635200@floridapalmettonavhda.org
SUMMARY:Feb. 15 - GMHT Training
DESCRIPTION:
URL:https://floridapalmettonavhda.org/event/feb-15-gmht-training/
LOCATION:CFFT Hunt Club\, 2285 Barney Keen Rd.\, Lake Wales\, FL\, 33898\, United States
CATEGORIES:Training
END:VEVENT
BEGIN:VEVENT
DTSTART;TZID=UTC:20250201T070000
DTEND;TZID=UTC:20250201T170000
DTSTAMP:20260423T104336
CREATED:20241204T082508Z
LAST-MODIFIED:20241204T082508Z
UID:51984-1738393200-1738429200@floridapalmettonavhda.org
SUMMARY:Feb. 1 - QHF Training
DESCRIPTION:
URL:https://floridapalmettonavhda.org/event/feb-1-qhf-training/
LOCATION:QHF Ranch\, 8300 SW martin Highway\, Palm City\, FL\, 34990\, United States
CATEGORIES:Training
END:VEVENT
BEGIN:VEVENT
DTSTART;TZID=UTC:20250118T070000
DTEND;TZID=UTC:20250118T170000
DTSTAMP:20260423T104336
CREATED:20241208T172723Z
LAST-MODIFIED:20241208T172723Z
UID:52004-1737183600-1737219600@floridapalmettonavhda.org
SUMMARY:Jan. 18 - GMHT Training
DESCRIPTION:
URL:https://floridapalmettonavhda.org/event/jan-18-gmht-training/
LOCATION:CFFT Hunt Club\, 2285 Barney Keen Rd.\, Lake Wales\, FL\, 33898\, United States
CATEGORIES:Training
END:VEVENT
BEGIN:VEVENT
DTSTART;TZID=UTC:20250104T070000
DTEND;TZID=UTC:20250104T170000
DTSTAMP:20260423T104336
CREATED:20241204T082414Z
LAST-MODIFIED:20241204T082414Z
UID:51982-1735974000-1736010000@floridapalmettonavhda.org
SUMMARY:Jan. 4 - QHF Training
DESCRIPTION:
URL:https://floridapalmettonavhda.org/event/jan-4-qhf-training/
LOCATION:QHF Ranch\, 8300 SW martin Highway\, Palm City\, FL\, 34990\, United States
CATEGORIES:Training
END:VEVENT
BEGIN:VEVENT
DTSTART;TZID=UTC:20241109T070000
DTEND;TZID=UTC:20241110T170000
DTSTAMP:20260423T104336
CREATED:20240413T055859Z
LAST-MODIFIED:20240413T055859Z
UID:51694-1731135600-1731258000@floridapalmettonavhda.org
SUMMARY:Nov 9 & 10 - Testing
DESCRIPTION:
URL:https://floridapalmettonavhda.org/event/nov-9-10-testing/
LOCATION:QHF Ranch\, 8300 SW martin Highway\, Palm City\, FL\, 34990\, United States
CATEGORIES:Testing
END:VEVENT
BEGIN:VEVENT
DTSTART;TZID=UTC:20241026T070000
DTEND;TZID=UTC:20241027T170000
DTSTAMP:20260423T104336
CREATED:20240413T055716Z
LAST-MODIFIED:20240413T055716Z
UID:51692-1729926000-1730048400@floridapalmettonavhda.org
SUMMARY:Oct 26 & 27 - Pre Testing
DESCRIPTION:
URL:https://floridapalmettonavhda.org/event/oct-26-27-pre-testing/
LOCATION:QHF Ranch\, 8300 SW martin Highway\, Palm City\, FL\, 34990\, United States
CATEGORIES:Testing
END:VEVENT
BEGIN:VEVENT
DTSTART;TZID=UTC:20241005T070000
DTEND;TZID=UTC:20241005T170000
DTSTAMP:20260423T104336
CREATED:20240413T054824Z
LAST-MODIFIED:20240927T192849Z
UID:51690-1728111600-1728147600@floridapalmettonavhda.org
SUMMARY:Oct 5 - Training QHF
DESCRIPTION:September 28th Saturday Training QHF – cancelled due to hurricane. \nRescheduled to Oct. 5th same time and venue.
URL:https://floridapalmettonavhda.org/event/oct-5-training-qhf/
LOCATION:QHF Ranch\, 8300 SW martin Highway\, Palm City\, FL\, 34990\, United States
CATEGORIES:Training
END:VEVENT
BEGIN:VEVENT
DTSTART;TZID=UTC:20240914T070000
DTEND;TZID=UTC:20240914T160000
DTSTAMP:20260423T104336
CREATED:20240416T063249Z
LAST-MODIFIED:20240416T063249Z
UID:51708-1726297200-1726329600@floridapalmettonavhda.org
SUMMARY:Sept. 14 - Training GMHT
DESCRIPTION:
URL:https://floridapalmettonavhda.org/event/sept-14-training-gmht/
LOCATION:CFFT Hunt Club\, 2285 Barney Keen Rd.\, Lake Wales\, FL\, 33898\, United States
CATEGORIES:Training
END:VEVENT
BEGIN:VEVENT
DTSTART;TZID=UTC:20240824T070000
DTEND;TZID=UTC:20240824T170000
DTSTAMP:20260423T104336
CREATED:20240413T054723Z
LAST-MODIFIED:20240413T054723Z
UID:51688-1724482800-1724518800@floridapalmettonavhda.org
SUMMARY:Aug 24 - Training QHF
DESCRIPTION:
URL:https://floridapalmettonavhda.org/event/aug-24-training-qhf/
LOCATION:QHF Ranch\, 8300 SW martin Highway\, Palm City\, FL\, 34990\, United States
CATEGORIES:Training
END:VEVENT
BEGIN:VEVENT
DTSTART;TZID=UTC:20240810T070000
DTEND;TZID=UTC:20240810T160000
DTSTAMP:20260423T104336
CREATED:20240416T063054Z
LAST-MODIFIED:20240416T063054Z
UID:51706-1723273200-1723305600@floridapalmettonavhda.org
SUMMARY:Aug 10 - Training GMHT
DESCRIPTION:
URL:https://floridapalmettonavhda.org/event/aug-10-training-gmht/
LOCATION:CFFT Hunt Club\, 2285 Barney Keen Rd.\, Lake Wales\, FL\, 33898\, United States
CATEGORIES:Training
END:VEVENT
BEGIN:VEVENT
DTSTART;TZID=UTC:20240727T070000
DTEND;TZID=UTC:20240727T170000
DTSTAMP:20260423T104336
CREATED:20240413T054625Z
LAST-MODIFIED:20240413T054625Z
UID:51686-1722063600-1722099600@floridapalmettonavhda.org
SUMMARY:July 27 - Training QHF
DESCRIPTION:
URL:https://floridapalmettonavhda.org/event/july-27-training-qhf/
LOCATION:QHF Ranch\, 8300 SW martin Highway\, Palm City\, FL\, 34990\, United States
CATEGORIES:Training
END:VEVENT
BEGIN:VEVENT
DTSTART;TZID=UTC:20240713T070000
DTEND;TZID=UTC:20240713T160000
DTSTAMP:20260423T104336
CREATED:20240416T060714Z
LAST-MODIFIED:20240622T054552Z
UID:51704-1720854000-1720886400@floridapalmettonavhda.org
SUMMARY:July 13 - Training GMHT
DESCRIPTION:
URL:https://floridapalmettonavhda.org/event/july-13-training-gmht/
LOCATION:CFFT Hunt Club\, 2285 Barney Keen Rd.\, Lake Wales\, FL\, 33898\, United States
CATEGORIES:Training
END:VEVENT
BEGIN:VEVENT
DTSTART;TZID=UTC:20240622T070000
DTEND;TZID=UTC:20240622T170000
DTSTAMP:20260423T104336
CREATED:20240413T054316Z
LAST-MODIFIED:20240416T063541Z
UID:51684-1719039600-1719075600@floridapalmettonavhda.org
SUMMARY:June 22 - Training QHF
DESCRIPTION:
URL:https://floridapalmettonavhda.org/event/june-22-training-qhf/
LOCATION:QHF Ranch\, 8300 SW martin Highway\, Palm City\, FL\, 34990\, United States
CATEGORIES:Training
END:VEVENT
BEGIN:VEVENT
DTSTART;TZID=UTC:20240608T070000
DTEND;TZID=UTC:20240608T160000
DTSTAMP:20260423T104336
CREATED:20240416T060615Z
LAST-MODIFIED:20240416T060615Z
UID:51702-1717830000-1717862400@floridapalmettonavhda.org
SUMMARY:June 8 - Training GMHT
DESCRIPTION:
URL:https://floridapalmettonavhda.org/event/june-8-training-gmht/
LOCATION:CFFT Hunt Club\, 2285 Barney Keen Rd.\, Lake Wales\, FL\, 33898\, United States
CATEGORIES:Training
END:VEVENT
BEGIN:VEVENT
DTSTART;TZID=UTC:20240518T080000
DTEND;TZID=UTC:20240519T170000
DTSTAMP:20260423T104336
CREATED:20240416T060413Z
LAST-MODIFIED:20240416T060413Z
UID:51700-1716019200-1716138000@floridapalmettonavhda.org
SUMMARY:May 18-19 - Test and Aims Class @GMHT
DESCRIPTION:
URL:https://floridapalmettonavhda.org/event/may-18-19-test-and-aims-class-gmht/
LOCATION:CFFT Hunt Club\, 2285 Barney Keen Rd.\, Lake Wales\, FL\, 33898\, United States
CATEGORIES:Testing
END:VEVENT
BEGIN:VEVENT
DTSTART;TZID=UTC:20240316T070000
DTEND;TZID=UTC:20240317T170000
DTSTAMP:20260423T104336
CREATED:20231109T192037Z
LAST-MODIFIED:20231109T192037Z
UID:51438-1710572400-1710694800@floridapalmettonavhda.org
SUMMARY:March 16/17 (Sat/sun) 2024 - Spring Test
DESCRIPTION:
URL:https://floridapalmettonavhda.org/event/march-16-17-sat-sun-2024-spring-test/
LOCATION:QHF Ranch\, 8300 SW martin Highway\, Palm City\, FL\, 34990\, United States
CATEGORIES:Testing
END:VEVENT
BEGIN:VEVENT
DTSTART;TZID=UTC:20240303T070000
DTEND;TZID=UTC:20240303T120000
DTSTAMP:20260423T104336
CREATED:20231109T192341Z
LAST-MODIFIED:20231109T192341Z
UID:51442-1709449200-1709467200@floridapalmettonavhda.org
SUMMARY:March 3 - Pretest Training Weekend
DESCRIPTION:
URL:https://floridapalmettonavhda.org/event/march-3-pretest-training-weekend/
LOCATION:QHF Ranch\, 8300 SW martin Highway\, Palm City\, FL\, 34990\, United States
CATEGORIES:Testing
END:VEVENT
BEGIN:VEVENT
DTSTART;TZID=UTC:20240302T070000
DTEND;TZID=UTC:20240302T170000
DTSTAMP:20260423T104336
CREATED:20231109T192158Z
LAST-MODIFIED:20231109T192158Z
UID:51440-1709362800-1709398800@floridapalmettonavhda.org
SUMMARY:March 2 - Pretest Training Weekend
DESCRIPTION:
URL:https://floridapalmettonavhda.org/event/march-2-pretest-training-weekend/
LOCATION:QHF Ranch\, 8300 SW martin Highway\, Palm City\, FL\, 34990\, United States
CATEGORIES:Testing
END:VEVENT
BEGIN:VEVENT
DTSTART;TZID=UTC:20240217T080000
DTEND;TZID=UTC:20240217T170000
DTSTAMP:20260423T104336
CREATED:20231212T102919Z
LAST-MODIFIED:20231212T102919Z
UID:51473-1708156800-1708189200@floridapalmettonavhda.org
SUMMARY:Feb 17 - Training QHF
DESCRIPTION:
URL:https://floridapalmettonavhda.org/event/feb-17-training-qhf/
LOCATION:QHF Ranch\, 8300 SW martin Highway\, Palm City\, FL\, 34990\, United States
CATEGORIES:Training
END:VEVENT
BEGIN:VEVENT
DTSTART;TZID=UTC:20240127T080000
DTEND;TZID=UTC:20240127T170000
DTSTAMP:20260423T104336
CREATED:20231212T102833Z
LAST-MODIFIED:20231212T102833Z
UID:51471-1706342400-1706374800@floridapalmettonavhda.org
SUMMARY:Jan 27 - Training QHF
DESCRIPTION:
URL:https://floridapalmettonavhda.org/event/jan-27-training-qhf/
LOCATION:QHF Ranch\, 8300 SW martin Highway\, Palm City\, FL\, 34990\, United States
CATEGORIES:Training
END:VEVENT
BEGIN:VEVENT
DTSTART;TZID=UTC:20240107T080000
DTEND;TZID=UTC:20240107T220000
DTSTAMP:20260423T104336
CREATED:20231212T083402Z
LAST-MODIFIED:20231212T172016Z
UID:51469-1704614400-1704664800@floridapalmettonavhda.org
SUMMARY:Jan 7 - Training GMHT
DESCRIPTION:
URL:https://floridapalmettonavhda.org/event/jan-7-training-gmht/
LOCATION:CFFT Hunt Club\, 2285 Barney Keen Rd.\, Lake Wales\, FL\, 33898\, United States
CATEGORIES:Training
END:VEVENT
END:VCALENDAR