BEGIN:VCALENDAR
VERSION:2.0
PRODID:-//Florida Palmetto NAVHDA - ECPv6.15.20//NONSGML v1.0//EN
CALSCALE:GREGORIAN
METHOD:PUBLISH
X-WR-CALNAME:Florida Palmetto NAVHDA
X-ORIGINAL-URL:https://floridapalmettonavhda.org
X-WR-CALDESC:Events for Florida Palmetto NAVHDA
REFRESH-INTERVAL;VALUE=DURATION:PT1H
X-Robots-Tag:noindex
X-PUBLISHED-TTL:PT1H
BEGIN:VTIMEZONE
TZID:UTC
BEGIN:STANDARD
TZOFFSETFROM:+0000
TZOFFSETTO:+0000
TZNAME:UTC
DTSTART:20200101T000000
END:STANDARD
END:VTIMEZONE
BEGIN:VEVENT
DTSTART;TZID=UTC:20230812T070000
DTEND;TZID=UTC:20230812T110000
DTSTAMP:20260423T152319
CREATED:20230601T052423Z
LAST-MODIFIED:20230601T052423Z
UID:51197-1691823600-1691838000@floridapalmettonavhda.org
SUMMARY:Aug 12 - Fundamentals
DESCRIPTION:7:00am to 11:00am \nGMHT in Lake Wales in Field “C”
URL:https://floridapalmettonavhda.org/event/aug-12-fundamentals/
LOCATION:CFFT Hunt Club\, 2285 Barney Keen Rd.\, Lake Wales\, FL\, 33898\, United States
CATEGORIES:Training
END:VEVENT
BEGIN:VEVENT
DTSTART;TZID=UTC:20230729T070000
DTEND;TZID=UTC:20230729T170000
DTSTAMP:20260423T152319
CREATED:20230726T054407Z
LAST-MODIFIED:20230726T054722Z
UID:51278-1690614000-1690650000@floridapalmettonavhda.org
SUMMARY:Water work Saturday July 29th QHF
DESCRIPTION:Water work Saturday July 29th QHF. Starts at 7am.\n \n  \nCome join us Saturday July 29th to work on steadiness by the blind. Purchase in the store $10 by Friday noontime.
URL:https://floridapalmettonavhda.org/event/water-work-saturday-july-29th-qhf/
LOCATION:QHF Ranch\, 8300 SW martin Highway\, Palm City\, FL\, 34990\, United States
CATEGORIES:Training
ATTACH;FMTTYPE=image/jpeg:https://floridapalmettonavhda.org/wp-content/uploads/2023/07/Image-from-iOS-scaled.jpg
END:VEVENT
BEGIN:VEVENT
DTSTART;TZID=UTC:20230729T070000
DTEND;TZID=UTC:20230729T170000
DTSTAMP:20260423T152319
CREATED:20230527T164631Z
LAST-MODIFIED:20230527T164653Z
UID:51185-1690614000-1690650000@floridapalmettonavhda.org
SUMMARY:July 29 - QHF Training
DESCRIPTION:7am start. Please pre-register.
URL:https://floridapalmettonavhda.org/event/july-29-qhf-training/
LOCATION:QHF Ranch\, 8300 SW martin Highway\, Palm City\, FL\, 34990\, United States
CATEGORIES:Training
END:VEVENT
BEGIN:VEVENT
DTSTART;TZID=UTC:20230715T070000
DTEND;TZID=UTC:20230715T110000
DTSTAMP:20260423T152319
CREATED:20230601T052145Z
LAST-MODIFIED:20230601T052145Z
UID:51195-1689404400-1689418800@floridapalmettonavhda.org
SUMMARY:July 15 - Fundamentals
DESCRIPTION:7:00am to 11:00am \nGMHT in Lake Wales in Field “C”
URL:https://floridapalmettonavhda.org/event/july-15-fundamentals/
LOCATION:CFFT Hunt Club\, 2285 Barney Keen Rd.\, Lake Wales\, FL\, 33898\, United States
CATEGORIES:Training
END:VEVENT
BEGIN:VEVENT
DTSTART;TZID=UTC:20230624T070000
DTEND;TZID=UTC:20230624T170000
DTSTAMP:20260423T152319
CREATED:20230527T164448Z
LAST-MODIFIED:20230527T164513Z
UID:51182-1687590000-1687626000@floridapalmettonavhda.org
SUMMARY:June 24 - QHF Training
DESCRIPTION:7am Start. Please pre-register.
URL:https://floridapalmettonavhda.org/event/june-24-qhf-training/
LOCATION:QHF Ranch\, 8300 SW martin Highway\, Palm City\, FL\, 34990\, United States
CATEGORIES:Training
END:VEVENT
BEGIN:VEVENT
DTSTART;TZID=UTC:20230610T090000
DTEND;TZID=UTC:20230610T170000
DTSTAMP:20260423T152319
CREATED:20230203T064906Z
LAST-MODIFIED:20230427T062318Z
UID:50440-1686387600-1686416400@floridapalmettonavhda.org
SUMMARY:June 10th - Canine First Aide Course for Hunting Dogs
DESCRIPTION:Fellow Dog Lovers! \nNow Open for Registration! \nYour FPC of NAVHDA is holding our first ever combined Canine Trauma/First Aid Clinic and Fundraiser.  It will be at GMHT on June 10th\, 2023.  We will start promptly at 9:00am. \nWe are lucky and honored to have Amanda Inman DVM\, a tremendous upland huntress and VHD Owner share her time and expertise with field dog trauma. \nLearn how to provide life-saving techniques for your beloved\, trained (or soon to be trained) 4 legged hunting partner. \nHunting and hiking in the great outdoors can provide unexpected surprises and accidents for your 4 legged partner.  Often enough\, the closest Vet could be hours or a day away!  This course will leave you with the skills to stabilize your dog for the best outcome in a tricky situation until you can get them to a Veterinarian. \nWe will take a couple of breaks\, and of course one for lunch.  FPC will provide snacks and drinks.  Bring your own lunch. \nEach attendee will receive a customized and comprehensive Canine Field Trauma/Aid kit\, that includes a stapler and Celox. \nThe cost per person will only be $200.00\, go to our online store now to purchase; spaces are limited. \nCLICK HERE TO PURCHASE \nThank you for all you do!\nFPC BOD
URL:https://floridapalmettonavhda.org/event/june-10th-canine-first-aide-course-for-hunting-dogs/
LOCATION:FL
CATEGORIES:General
ATTACH;FMTTYPE=image/jpeg:https://floridapalmettonavhda.org/wp-content/uploads/2023/04/RED-3.jpg
END:VEVENT
BEGIN:VEVENT
DTSTART;TZID=UTC:20230415T080000
DTEND;TZID=UTC:20230415T180000
DTSTAMP:20260423T152319
CREATED:20200922T060434Z
LAST-MODIFIED:20230202T073106Z
UID:29646-1681545600-1681581600@floridapalmettonavhda.org
SUMMARY:Snake Avoidance Clinic Presented by David “The Cobra Kid” Weathers at QHF Ranch
DESCRIPTION:Did you know treatment for a Snake Bite by a venomous snake is extremely expensive and that there is no guarantee your K-9 companion will recover?\nNAVHDA has partnered with David “The Cobra Kid” Weathers\, a professional venomous snake handler and animal trainer for a new and improved Snake Avoidance Clinic. The training aims to teach your dog to avoid the snake by conditioning them to the sight\, smell and sound of snakes. This type of training could save your dog’s life\, and possibly yours. David will handle several native snakes which will be contained in a safe environment and placed in normal hunting situations in the field. The snakes will be moved so each handler and dog will have new scent. Participants will learn about venomous snakes and their distinct features and natural habitat. We will add gunfire to the training\, since dogs have been bitten even after avoiding the snake because the handler shot at the snake. Training will incorporate the element of a verbal command\, since a handler’s natural reaction to a snake is often verbal. \nWho Should Attend:\nAnyone\, this is not just for member bird dogs! This training session is open to any dogs who could benefit\, Hog Dogs\, Deer Dogs\, Waterfowl Retrievers\, Cattle dogs\, Herders or even your home companion. \n  \nDate: April 15\, 2023\nTime: 8:00 AM – 6:00 PM.  Once registered\, you will receive an email with time confirmation.  Please arrive one hour before your time slot.\nConducted By: World Famous Snake handler David Weathers in conjunction with NAVHDA. \n  \n  \nFOR MORE INFORMATION AND TO REGISTER ONLINE:\nCLICK HERE\n 
URL:https://floridapalmettonavhda.org/event/snake-avoidance-clinic-presented-by-david-the-cobra-kid-weathers-at-qhf-ranch/
LOCATION:QHF Ranch\, 8300 SW martin Highway\, Palm City\, FL\, 34990\, United States
CATEGORIES:General
ATTACH;FMTTYPE=image/jpeg:https://floridapalmettonavhda.org/wp-content/uploads/2020/09/image_snakeavoidance.jpg
END:VEVENT
BEGIN:VEVENT
DTSTART;TZID=UTC:20230325T080000
DTEND;TZID=UTC:20230326T170000
DTSTAMP:20260423T152319
CREATED:20221208T192835Z
LAST-MODIFIED:20221208T192835Z
UID:50064-1679731200-1679850000@floridapalmettonavhda.org
SUMMARY:Spring Test at QHF - March 25/26
DESCRIPTION:
URL:https://floridapalmettonavhda.org/event/spring-test-at-qhf-march-25-26/
LOCATION:QHF Ranch\, 8300 SW martin Highway\, Palm City\, FL\, 34990\, United States
CATEGORIES:General,Training
END:VEVENT
BEGIN:VEVENT
DTSTART;TZID=UTC:20230318T080000
DTEND;TZID=UTC:20230319T170000
DTSTAMP:20260423T152319
CREATED:20230112T154929Z
LAST-MODIFIED:20230112T154929Z
UID:50241-1679126400-1679245200@floridapalmettonavhda.org
SUMMARY:March 18 - 19 Training Weekend QHF
DESCRIPTION:
URL:https://floridapalmettonavhda.org/event/march-18-19-training-weekend-qhf/
LOCATION:QHF Ranch\, 8300 SW martin Highway\, Palm City\, FL\, 34990\, United States
CATEGORIES:General,Training
END:VEVENT
BEGIN:VEVENT
DTSTART;TZID=UTC:20230211T080000
DTEND;TZID=UTC:20230211T170000
DTSTAMP:20260423T152319
CREATED:20230130T193704Z
LAST-MODIFIED:20230203T103629Z
UID:50394-1676102400-1676134800@floridapalmettonavhda.org
SUMMARY:Feb 11 - Training Weekend QHF
DESCRIPTION:
URL:https://floridapalmettonavhda.org/event/feb-11-training-weekend-gmht/
LOCATION:QHF Ranch\, 8300 SW martin Highway\, Palm City\, FL\, 34990\, United States
CATEGORIES:Training
END:VEVENT
BEGIN:VEVENT
DTSTART;TZID=UTC:20230114T080000
DTEND;TZID=UTC:20230114T170000
DTSTAMP:20260423T152319
CREATED:20221208T192621Z
LAST-MODIFIED:20221208T192621Z
UID:50062-1673683200-1673715600@floridapalmettonavhda.org
SUMMARY:January 14 - Training QHF
DESCRIPTION:
URL:https://floridapalmettonavhda.org/event/january-14-training-qhf/
LOCATION:QHF Ranch\, 8300 SW martin Highway\, Palm City\, FL\, 34990\, United States
CATEGORIES:Training
END:VEVENT
BEGIN:VEVENT
DTSTART;TZID=UTC:20221210T073000
DTEND;TZID=UTC:20221210T163000
DTSTAMP:20260423T152319
CREATED:20221123T082654Z
LAST-MODIFIED:20221123T082654Z
UID:49983-1670657400-1670689800@floridapalmettonavhda.org
SUMMARY:Dec 10 Training @ GMHT - field "C" Lake Wales
DESCRIPTION:Dec 10\nTraining @ GMHT\,\nfield “C”\nLake Wales
URL:https://floridapalmettonavhda.org/event/dec-10-training-gmht-field-c-lake-wales/
LOCATION:FL
CATEGORIES:General,Training
END:VEVENT
BEGIN:VEVENT
DTSTART;TZID=UTC:20221112T080000
DTEND;TZID=UTC:20221113T170000
DTSTAMP:20260423T152319
CREATED:20220809T054512Z
LAST-MODIFIED:20220809T054512Z
UID:49337-1668240000-1668358800@floridapalmettonavhda.org
SUMMARY:Fall Test 2022 at QHF - Nov. 12th & 13th
DESCRIPTION:
URL:https://floridapalmettonavhda.org/event/fall-test-2022-at-qhf-nov-12th-13th/
LOCATION:QHF Ranch\, 8300 SW martin Highway\, Palm City\, FL\, 34990\, United States
CATEGORIES:General
END:VEVENT
BEGIN:VEVENT
DTSTART;TZID=UTC:20221030T080000
DTEND;TZID=UTC:20221030T170000
DTSTAMP:20260423T152319
CREATED:20221025T060053Z
LAST-MODIFIED:20221025T060053Z
UID:49840-1667116800-1667149200@floridapalmettonavhda.org
SUMMARY:UT/UPT Pretest - Oct 30
DESCRIPTION:UT/UPT Pretest \nSunday\, Oct. 30 \n$125
URL:https://floridapalmettonavhda.org/event/ut-upt-pretest-oct-30/
LOCATION:QHF Ranch\, 8300 SW martin Highway\, Palm City\, FL\, 34990\, United States
CATEGORIES:General
END:VEVENT
BEGIN:VEVENT
DTSTART;TZID=UTC:20221029T080000
DTEND;TZID=UTC:20221029T170000
DTSTAMP:20260423T152319
CREATED:20221025T060941Z
LAST-MODIFIED:20221025T060941Z
UID:49842-1667030400-1667062800@floridapalmettonavhda.org
SUMMARY:NA Pretest - Oct 29
DESCRIPTION:NA Pretest \nOct 29 – Saturday \n$80
URL:https://floridapalmettonavhda.org/event/na-pretest-oct-29/
LOCATION:QHF Ranch\, 8300 SW martin Highway\, Palm City\, FL\, 34990\, United States
CATEGORIES:General
END:VEVENT
BEGIN:VEVENT
DTSTART;TZID=UTC:20220910T070000
DTEND;TZID=UTC:20220910T160000
DTSTAMP:20260423T152319
CREATED:20220614T203243Z
LAST-MODIFIED:20220614T203340Z
UID:49104-1662793200-1662825600@floridapalmettonavhda.org
SUMMARY:September 10 - Training QHF
DESCRIPTION:
URL:https://floridapalmettonavhda.org/event/september-10-training-qhf/
LOCATION:QHF Ranch\, 8300 SW martin Highway\, Palm City\, FL\, 34990\, United States
CATEGORIES:Training
END:VEVENT
BEGIN:VEVENT
DTSTART;TZID=UTC:20220813T070000
DTEND;TZID=UTC:20220813T160000
DTSTAMP:20260423T152319
CREATED:20220504T060729Z
LAST-MODIFIED:20220504T060746Z
UID:48872-1660374000-1660406400@floridapalmettonavhda.org
SUMMARY:August 13 - Training QHF
DESCRIPTION:Aug. 13 7:00am – 4:00pm
URL:https://floridapalmettonavhda.org/event/august-13-training-qhf/
LOCATION:QHF Ranch\, 8300 SW martin Highway\, Palm City\, FL\, 34990\, United States
CATEGORIES:Training
END:VEVENT
BEGIN:VEVENT
DTSTART;TZID=UTC:20220710T070000
DTEND;TZID=UTC:20220710T120000
DTSTAMP:20260423T152319
CREATED:20220504T060450Z
LAST-MODIFIED:20220504T060600Z
UID:48869-1657436400-1657454400@floridapalmettonavhda.org
SUMMARY:July 10 - Training QHF
DESCRIPTION:July 10 7:00am -12:00pm (noon)
URL:https://floridapalmettonavhda.org/event/july-10-training-qhf/
LOCATION:QHF Ranch\, 8300 SW martin Highway\, Palm City\, FL\, 34990\, United States
CATEGORIES:Training
END:VEVENT
BEGIN:VEVENT
DTSTART;TZID=UTC:20220709T070000
DTEND;TZID=UTC:20220709T160000
DTSTAMP:20260423T152319
CREATED:20220504T060241Z
LAST-MODIFIED:20220504T060344Z
UID:48866-1657350000-1657382400@floridapalmettonavhda.org
SUMMARY:July 9 - Training QHF
DESCRIPTION:Training QHF July 9 7am -4pm
URL:https://floridapalmettonavhda.org/event/july-9-training-qhf/
LOCATION:QHF Ranch\, 8300 SW martin Highway\, Palm City\, FL\, 34990\, United States
CATEGORIES:Training
END:VEVENT
BEGIN:VEVENT
DTSTART;TZID=UTC:20220515T070000
DTEND;TZID=UTC:20220515T120000
DTSTAMP:20260423T152319
CREATED:20220317T082203Z
LAST-MODIFIED:20220317T082203Z
UID:48495-1652598000-1652616000@floridapalmettonavhda.org
SUMMARY:May 15 training QHF
DESCRIPTION:
URL:https://floridapalmettonavhda.org/event/may-15-training-qhf/
LOCATION:FL
CATEGORIES:Training
END:VEVENT
BEGIN:VEVENT
DTSTART;TZID=UTC:20220514T070000
DTEND;TZID=UTC:20220514T160000
DTSTAMP:20260423T152319
CREATED:20220317T082117Z
LAST-MODIFIED:20220317T082117Z
UID:48493-1652511600-1652544000@floridapalmettonavhda.org
SUMMARY:May 14 training QHF
DESCRIPTION:
URL:https://floridapalmettonavhda.org/event/may-14-training-qhf/
LOCATION:FL
CATEGORIES:Training
END:VEVENT
BEGIN:VEVENT
DTSTART;TZID=UTC:20220402T080000
DTEND;TZID=UTC:20220403T170000
DTSTAMP:20260423T152319
CREATED:20220315T202440Z
LAST-MODIFIED:20220315T202440Z
UID:48473-1648886400-1649005200@floridapalmettonavhda.org
SUMMARY:April 2 & 3 Spring Test GMHT
DESCRIPTION:April 2 & 3 Spring Test GMHT
URL:https://floridapalmettonavhda.org/event/april-2-3-spring-test-gmht/
LOCATION:FL
CATEGORIES:General
END:VEVENT
BEGIN:VEVENT
DTSTART;TZID=UTC:20220319T080000
DTEND;TZID=UTC:20220320T170000
DTSTAMP:20260423T152319
CREATED:20220315T202314Z
LAST-MODIFIED:20220315T202314Z
UID:48471-1647676800-1647795600@floridapalmettonavhda.org
SUMMARY:March 19 and 20 Test and Aims clinic at QHF 8-5
DESCRIPTION:March 19 and 20 Test and Aims clinic at QHF 8-5
URL:https://floridapalmettonavhda.org/event/march-19-and-20-test-and-aims-clinic-at-qhf-8-5/
LOCATION:FL
CATEGORIES:General
END:VEVENT
BEGIN:VEVENT
DTSTART;TZID=UTC:20220212T080000
DTEND;TZID=UTC:20220213T170000
DTSTAMP:20260423T152319
CREATED:20220107T193417Z
LAST-MODIFIED:20220107T200250Z
UID:47800-1644652800-1644771600@floridapalmettonavhda.org
SUMMARY:Training GMHT
DESCRIPTION:
URL:https://floridapalmettonavhda.org/event/training-gmht-15/
LOCATION:CFFT Hunt Club\, 2285 Barney Keen Rd.\, Lake Wales\, FL\, 33898\, United States
CATEGORIES:General,Training
END:VEVENT
BEGIN:VEVENT
DTSTART;TZID=UTC:20220108T080000
DTEND;TZID=UTC:20220108T170000
DTSTAMP:20260423T152319
CREATED:20211230T193738Z
LAST-MODIFIED:20211230T193738Z
UID:47704-1641628800-1641661200@floridapalmettonavhda.org
SUMMARY:Training QHF
DESCRIPTION:
URL:https://floridapalmettonavhda.org/event/training-qhf-9/
LOCATION:QHF Ranch\, 8300 SW martin Highway\, Palm City\, FL\, 34990\, United States
CATEGORIES:Training
END:VEVENT
BEGIN:VEVENT
DTSTART;TZID=UTC:20211113T080000
DTEND;TZID=UTC:20211113T180000
DTSTAMP:20260423T152319
CREATED:20210902T202417Z
LAST-MODIFIED:20210929T185010Z
UID:46681-1636790400-1636826400@floridapalmettonavhda.org
SUMMARY:Snake Avoidance Clinic Presented by:  David “The Cobra Kid” Weathers at GMHT
DESCRIPTION:Did you know treatment for a Snake Bite by a venomous snake is extremely expensive and that there is no guarantee your K-9 companion will recover?\nLearn from David “The Cobra Kid” Weathers\, a professional venomous snake handler and animal trainer for a new and improved Snake Avoidance Clinic. The training aims to teach your dog to avoid the snake by conditioning them to the sight\, smell and sound of snakes. This type of training could save your dog’s life\, and possibly yours. David will handle several native snakes which will be contained in a safe environment and placed in normal hunting situations in the field. The snakes will be moved so each handler and dog will have new scent. Participants will learn about venomous snakes and their distinct features and natural habitat. We will add gunfire to the training\, since dogs have been bitten even after avoiding the snake because the handler shot at the snake. Training will incorporate the element of a verbal command\, since a handler’s natural reaction to a snake is often verbal. \nWho Should Attend:\nAnyone\, this is not just for member bird dogs! This training session is open to any dogs who could benefit\, Hog Dogs\, Deer Dogs\, Waterfowl Retrievers\, Cattle dogs\, Herders or even your home companion. \n  \nDate: November 13\, 2021\nTime: 8:00 AM – 6:00 PM.  Once registered\, you will receive an email with time confirmation.  Please arrive one hour before your time slot.\nConducted By: World Famous Snake handler David Weathers. \n 
URL:https://floridapalmettonavhda.org/event/snake-avoidance-clinic-presented-by-david-the-cobra-kid-weathers-at-gmht/
LOCATION:FL
CATEGORIES:General
ATTACH;FMTTYPE=image/jpeg:https://floridapalmettonavhda.org/wp-content/uploads/2020/09/image_snakeavoidance.jpg
END:VEVENT
BEGIN:VEVENT
DTSTART;TZID=UTC:20211107T080000
DTEND;TZID=UTC:20211107T170000
DTSTAMP:20260423T152319
CREATED:20210420T193859Z
LAST-MODIFIED:20210420T194004Z
UID:42376-1636272000-1636304400@floridapalmettonavhda.org
SUMMARY:GMHT Fall Test
DESCRIPTION:
URL:https://floridapalmettonavhda.org/event/gmht-fall-test-2/
LOCATION:FL
CATEGORIES:Training
END:VEVENT
BEGIN:VEVENT
DTSTART;TZID=UTC:20211106T080000
DTEND;TZID=UTC:20211106T170000
DTSTAMP:20260423T152319
CREATED:20210420T193819Z
LAST-MODIFIED:20210420T194019Z
UID:42374-1636185600-1636218000@floridapalmettonavhda.org
SUMMARY:GMHT Fall Test
DESCRIPTION:
URL:https://floridapalmettonavhda.org/event/gmht-fall-test/
LOCATION:FL
CATEGORIES:Training
END:VEVENT
BEGIN:VEVENT
DTSTART;TZID=UTC:20211010T080000
DTEND;TZID=UTC:20211010T170000
DTSTAMP:20260423T152319
CREATED:20210420T193650Z
LAST-MODIFIED:20210420T193650Z
UID:42372-1633852800-1633885200@floridapalmettonavhda.org
SUMMARY:Training GMHT
DESCRIPTION:
URL:https://floridapalmettonavhda.org/event/training-gmht-14/
LOCATION:FL
CATEGORIES:Training
END:VEVENT
BEGIN:VEVENT
DTSTART;TZID=UTC:20211009T080000
DTEND;TZID=UTC:20211009T170000
DTSTAMP:20260423T152319
CREATED:20210420T193556Z
LAST-MODIFIED:20210420T193556Z
UID:42370-1633766400-1633798800@floridapalmettonavhda.org
SUMMARY:Training GMHT
DESCRIPTION:
URL:https://floridapalmettonavhda.org/event/training-gmht-13/
LOCATION:FL
CATEGORIES:Training
END:VEVENT
END:VCALENDAR